BEGIN:VCALENDAR
VERSION:2.0
PRODID:-//Boston Wool Works - ECPv6.15.20//NONSGML v1.0//EN
CALSCALE:GREGORIAN
METHOD:PUBLISH
X-WR-CALNAME:Boston Wool Works
X-ORIGINAL-URL:http://bostonwoolworks.com
X-WR-CALDESC:Events for Boston Wool Works
REFRESH-INTERVAL;VALUE=DURATION:PT1H
X-Robots-Tag:noindex
X-PUBLISHED-TTL:PT1H
BEGIN:VTIMEZONE
TZID:America/New_York
BEGIN:DAYLIGHT
TZOFFSETFROM:-0500
TZOFFSETTO:-0400
TZNAME:EDT
DTSTART:20150308T070000
END:DAYLIGHT
BEGIN:STANDARD
TZOFFSETFROM:-0400
TZOFFSETTO:-0500
TZNAME:EST
DTSTART:20151101T060000
END:STANDARD
BEGIN:DAYLIGHT
TZOFFSETFROM:-0500
TZOFFSETTO:-0400
TZNAME:EDT
DTSTART:20160313T070000
END:DAYLIGHT
BEGIN:STANDARD
TZOFFSETFROM:-0400
TZOFFSETTO:-0500
TZNAME:EST
DTSTART:20161106T060000
END:STANDARD
BEGIN:DAYLIGHT
TZOFFSETFROM:-0500
TZOFFSETTO:-0400
TZNAME:EDT
DTSTART:20170312T070000
END:DAYLIGHT
BEGIN:STANDARD
TZOFFSETFROM:-0400
TZOFFSETTO:-0500
TZNAME:EST
DTSTART:20171105T060000
END:STANDARD
END:VTIMEZONE
BEGIN:VEVENT
DTSTART;TZID=America/New_York:20160501T103000
DTEND;TZID=America/New_York:20160501T130000
DTSTAMP:20260423T180506
CREATED:20161011T172217Z
LAST-MODIFIED:20181009T155119Z
UID:213-1462098600-1462107600@bostonwoolworks.com
SUMMARY:Class: Recycling yarn from sweaters
DESCRIPTION:Do you have old sweaters that are no longer in style but are holding gorgeous yarn hostage? All of our closets\, attics\, and basement\, not to mention local thrift stores\, are great sources for some fun yarn experimentation and exploration. In this class\, we’ll do a hands-on tour of the full process\, including tips for selecting an appropriate sweater\, deconstruction techniques for maximum yarn harvest and minimum frustration\, proper washing and winding techniques for various materials\, how to prep your yarn for knitting/crochet/weaving\, and project ideas for using your freshly-harvested yarn (some sample pieces will be shared). Each participant will apply the techniques to their own sweater during the class\, and a lively discussion is encouraged. \nRecommended tools: small sharp-pointed and large sturdy scissors\, spare double-pointed knitting needle or small crochet hook\, ball winder\, and self-winding swift or niddy-noddy. \nBring a sweater of your own to recycle or for a $10 materials fee we’ll provide a suitable washed sweater.
URL:http://bostonwoolworks.com/event/class-recycling-yarn-from-sweaters/
LOCATION:Circle of Stitches\, 66 Wharf St\, Salem\, MA\, 01970\, United States
CATEGORIES:Markets,Workshops
END:VEVENT
END:VCALENDAR